BEGIN:VCALENDAR
VERSION:2.0
PRODID:-//eventon.com NONSGML v1.0//EN
CALSCALE:GREGORIAN
METHOD:PUBLISH
BEGIN:VEVENT
UID:69e5538a636cf
DTSTAMP:20260419T221330Z
DTSTART:20230521T120000Z
DTEND:20230521T190000Z
LOCATION:
SUMMARY:Phat Backs
DESCRIPTION:Phat Backs\nhttps://muddyriverfarmbrewery.com/events/phat-backs
 -2/
URL:https://muddyriverfarmbrewery.com/events/phat-backs-2/
END:VEVENT
END:VCALENDAR