BEGIN:VCALENDAR
VERSION:2.0
PRODID:-//eventon.com NONSGML v1.0//EN
CALSCALE:GREGORIAN
METHOD:PUBLISH
BEGIN:VEVENT
UID:69eb7be33597a
DTSTAMP:20260424T141915Z
DTSTART:20230603T130000Z
DTEND:20230603T190000Z
LOCATION:
SUMMARY:Road Dogs
DESCRIPTION:Road Dogs\nhttps://muddyriverfarmbrewery.com/events/road-dogs/
URL:https://muddyriverfarmbrewery.com/events/road-dogs/
END:VEVENT
END:VCALENDAR