BEGIN:VCALENDAR
VERSION:2.0
PRODID:-//eventon.com NONSGML v1.0//EN
CALSCALE:GREGORIAN
METHOD:PUBLISH
BEGIN:VEVENT
UID:69e5781d64067
DTSTAMP:20260420T004933Z
DTSTART:20230624T130000Z
DTEND:20230624T190000Z
LOCATION:
SUMMARY:Phat Backs
DESCRIPTION:Phat Backs\nhttps://muddyriverfarmbrewery.com/events/phat-backs
 -4/
URL:https://muddyriverfarmbrewery.com/events/phat-backs-4/
END:VEVENT
END:VCALENDAR