BEGIN:VCALENDAR
VERSION:2.0
PRODID:-//eventon.com NONSGML v1.0//EN
CALSCALE:GREGORIAN
METHOD:PUBLISH
BEGIN:VEVENT
UID:69e7380bcd65e
DTSTAMP:20260421T084043Z
DTSTART:20230716T160000Z
DTEND:20230716T220000Z
LOCATION:
SUMMARY:Ty's Taco-Ria
DESCRIPTION:Ty's Taco-Ria\nhttps://muddyriverfarmbrewery.com/events/tys-tac
 o-ria-copy/
URL:https://muddyriverfarmbrewery.com/events/tys-taco-ria-copy/
END:VEVENT
END:VCALENDAR