BEGIN:VCALENDAR
VERSION:2.0
PRODID:-//eventon.com NONSGML v1.0//EN
CALSCALE:GREGORIAN
METHOD:PUBLISH
BEGIN:VEVENT
UID:69e793cb62a52
DTSTAMP:20260421T151211Z
DTSTART:20230827T160000Z
DTEND:20230827T220000Z
LOCATION:
SUMMARY:Smoke Out BBQ
DESCRIPTION:Smoke Out BBQ\nhttps://muddyriverfarmbrewery.com/events/smoke-o
 ut-bbq-5/
URL:https://muddyriverfarmbrewery.com/events/smoke-out-bbq-5/
END:VEVENT
END:VCALENDAR