BEGIN:VCALENDAR
VERSION:2.0
PRODID:-//eventon.com NONSGML v1.0//EN
CALSCALE:GREGORIAN
METHOD:PUBLISH
BEGIN:VEVENT
UID:69e53cfd35fbf
DTSTAMP:20260419T203717Z
DTSTART:20230903T160000Z
DTEND:20230903T220000Z
LOCATION:
SUMMARY:Smoke Out BBQ
DESCRIPTION:Smoke Out BBQ\nhttps://muddyriverfarmbrewery.com/events/smoke-o
 ut-bbq-copy-4/
URL:https://muddyriverfarmbrewery.com/events/smoke-out-bbq-copy-4/
END:VEVENT
END:VCALENDAR