BEGIN:VCALENDAR
VERSION:2.0
PRODID:-//eventon.com NONSGML v1.0//EN
CALSCALE:GREGORIAN
METHOD:PUBLISH
BEGIN:VEVENT
UID:69e569f96eb52
DTSTAMP:20260419T234913Z
DTSTART:20240418T180000Z
DTEND:20240418T200000Z
LOCATION:
SUMMARY:Live Music | Mirabella Phinney
DESCRIPTION:Join us for an evening of live music with the talented Mirabell
 a Phinney at Muddy River Farm Brewery's Oneonta taproom on Thursday\,  Apri
 l 18 from 6-8 pm. Known for her multi-talented musical prowess and soothing
  yet engaging performances\,  Mirabella Phinney delivers an unforgettable s
 how reminiscent of singer-songwriters like Joni Mitchell[..]\nhttps://muddy
 riverfarmbrewery.com/events/live-music-mirabella-phinney/
URL:https://muddyriverfarmbrewery.com/events/live-music-mirabella-phinney/
END:VEVENT
END:VCALENDAR