BEGIN:VCALENDAR
VERSION:2.0
PRODID:-//eventon.com NONSGML v1.0//EN
CALSCALE:GREGORIAN
METHOD:PUBLISH
BEGIN:VEVENT
UID:69e53a533a8c4
DTSTAMP:20260419T202555Z
DTSTART:20240408T150000Z
DTEND:20240408T210000Z
LOCATION:
SUMMARY:Eclipse Party + Vinyl Monday
DESCRIPTION:Catch the eclipse at Muddy River! We'll be viewing the eclipse 
 from our patio listening to otherworldly tunes to celebrate the solar eclip
 se starting at 3 pm! Enjoy $5 pints of our Hellbender Black IPA and grab a 
 pair of eclipse glasses free with purchase (while supplies last). As the[..
 ]\nhttps://muddyriverfarmbrewery.com/events/eclipse-party-vinyl-monday/
URL:https://muddyriverfarmbrewery.com/events/eclipse-party-vinyl-monday/
END:VEVENT
END:VCALENDAR