BEGIN:VCALENDAR
VERSION:2.0
PRODID:-//eventon.com NONSGML v1.0//EN
CALSCALE:GREGORIAN
METHOD:PUBLISH
BEGIN:VEVENT
UID:69e750f9243ea
DTSTAMP:20260421T102705Z
DTSTART:20240516T180000Z
DTEND:20240516T200000Z
LOCATION:
SUMMARY:Live Music | Randy Miritello Solo
DESCRIPTION:Join us at Muddy River Farm Brewery's Oneonta taproom on Thursd
 ay\,  May 16 from 6-8 pm for an unforgettable solo performance by\,  Oneont
 a-based guitarist\,  vocalist\,  and songwriter Randy Miritello! Randy is t
 he founder of the band Hop City Hellcats and a co-founding member of the Ho
 rseshoe Lounge Playboys. He has[..]\nhttps://muddyriverfarmbrewery.com/even
 ts/live-music-randy-miritello-solo/
URL:https://muddyriverfarmbrewery.com/events/live-music-randy-miritello-solo/
END:VEVENT
END:VCALENDAR