BEGIN:VCALENDAR
VERSION:2.0
PRODID:-//eventon.com NONSGML v1.0//EN
CALSCALE:GREGORIAN
METHOD:PUBLISH
BEGIN:VEVENT
UID:69e74e557ad3f
DTSTAMP:20260421T101549Z
DTSTART:20240607T180000Z
DTEND:20240607T210000Z
LOCATION:
SUMMARY:Live Music | Freelance Armstrong
DESCRIPTION:Friday 6/7\,  join us at the Oneonta Taproom for Freelance Arms
 trong\,  an improvisation-based instrumental trio playing hits from 90s and
  2000s hip hop\,  rock\,  funk\,  soul\,  and jazz classics. They are Amar 
 Sastry (guitar)\,  Sebastian Green (drums) and Evan Jagels (bass).\nhttps:/
 /muddyriverfarmbrewery.com/events/live-music-freelance-armstrong/
URL:https://muddyriverfarmbrewery.com/events/live-music-freelance-armstrong/
END:VEVENT
END:VCALENDAR