BEGIN:VCALENDAR
VERSION:2.0
PRODID:-//eventon.com NONSGML v1.0//EN
CALSCALE:GREGORIAN
METHOD:PUBLISH
BEGIN:VEVENT
UID:69e70691da035
DTSTAMP:20260421T050937Z
DTSTART:20240627T180000Z
DTEND:20240627T193000Z
LOCATION:
SUMMARY:Los Amigos Social Club [UNADILLA]
DESCRIPTION:Join us for Los Amigos\,  our casual Spanish language meet-up! 
 All levels are welcome. For more details\,  email ms.christinahunt@gmail.co
 m or just swing by and look for the "Los Amigos" sign. Our group comprises 
 native speakers\,  Spanish teachers\,  professionals seeking to enhance the
 ir communication skills\,  and individuals eager to learn the[..]\nhttps://
 muddyriverfarmbrewery.com/events/los-amigos-social-club-unadilla/
URL:https://muddyriverfarmbrewery.com/events/los-amigos-social-club-unadilla/
END:VEVENT
END:VCALENDAR