BEGIN:VCALENDAR
VERSION:2.0
PRODID:-//eventon.com NONSGML v1.0//EN
CALSCALE:GREGORIAN
METHOD:PUBLISH
BEGIN:VEVENT
UID:69e9f5a463a91
DTSTAMP:20260423T103412Z
DTSTART:20240823T180000Z
DTEND:20240823T210000Z
LOCATION:
SUMMARY:LIVE MUSIC | The Mopar Cams [Oneonta]
DESCRIPTION: Join us in rocking out to this three-man wrecking machine tha
 t delivers the finest in rockabilly and psychobilly music. Friday\,  August
  23 from 6-9 pm at Muddy River's Oneonta Taproom.\nhttps://muddyriverfarmbr
 ewery.com/events/live-music-the-mopar-cams/
URL:https://muddyriverfarmbrewery.com/events/live-music-the-mopar-cams/
END:VEVENT
END:VCALENDAR